BEGIN:VCALENDAR
VERSION:2.0
PRODID:-//U3A Shoalhaven - ECPv1.0//NONSGML v1.0//EN
CALSCALE:GREGORIAN
METHOD:PUBLISH
X-WR-CALNAME:U3A Shoalhaven
X-ORIGINAL-URL:https://shoalhaven.u3anet.org.au
X-WR-CALDESC:Events for U3A Shoalhaven
BEGIN:VEVENT
DTSTART;VALUE=DATE:20210208
DTEND;VALUE=DATE:20210208
DTSTAMP:20210226T154627
UID:23-1612742400-1612742400@https://shoalhaven.u3anet.org.au
SUMMARY:Term 1
DESCRIPTION:
LOCATION:
END:VEVENT
BEGIN:VEVENT
DTSTART;VALUE=DATE:20210208
DTEND;VALUE=DATE:20210208
DTSTAMP:20210226T154627
UID:30-1612742400-1612742400@https://shoalhaven.u3anet.org.au
SUMMARY:Term 1 - Start
DESCRIPTION:
LOCATION:
END:VEVENT
BEGIN:VEVENT
DTSTART;VALUE=DATE:20210209
DTEND;VALUE=DATE:20210209
DTSTAMP:20210226T154627
UID:23-1612828800-1612828800@https://shoalhaven.u3anet.org.au
SUMMARY:Term 1
DESCRIPTION:
LOCATION:
END:VEVENT
BEGIN:VEVENT
DTSTART;VALUE=DATE:20210210
DTEND;VALUE=DATE:20210210
DTSTAMP:20210226T154627
UID:23-1612915200-1612915200@https://shoalhaven.u3anet.org.au
SUMMARY:Term 1
DESCRIPTION:
LOCATION:
END:VEVENT
BEGIN:VEVENT
DTSTART;VALUE=DATE:20210211
DTEND;VALUE=DATE:20210211
DTSTAMP:20210226T154627
UID:23-1613001600-1613001600@https://shoalhaven.u3anet.org.au
SUMMARY:Term 1
DESCRIPTION:
LOCATION:
END:VEVENT
BEGIN:VEVENT
DTSTART;VALUE=DATE:20210212
DTEND;VALUE=DATE:20210212
DTSTAMP:20210226T154627
UID:23-1613088000-1613088000@https://shoalhaven.u3anet.org.au
SUMMARY:Term 1
DESCRIPTION:
LOCATION:
END:VEVENT
BEGIN:VEVENT
DTSTART;VALUE=DATE:20210215
DTEND;VALUE=DATE:20210215
DTSTAMP:20210226T154627
UID:23-1613347200-1613347200@https://shoalhaven.u3anet.org.au
SUMMARY:Term 1
DESCRIPTION:
LOCATION:
END:VEVENT
BEGIN:VEVENT
DTSTART;VALUE=DATE:20210216
DTEND;VALUE=DATE:20210216
DTSTAMP:20210226T154627
UID:23-1613433600-1613433600@https://shoalhaven.u3anet.org.au
SUMMARY:Term 1
DESCRIPTION:
LOCATION:
END:VEVENT
BEGIN:VEVENT
DTSTART;VALUE=DATE:20210217
DTEND;VALUE=DATE:20210217
DTSTAMP:20210226T154627
UID:23-1613520000-1613520000@https://shoalhaven.u3anet.org.au
SUMMARY:Term 1
DESCRIPTION:
LOCATION:
END:VEVENT
BEGIN:VEVENT
DTSTART;VALUE=DATE:20210218
DTEND;VALUE=DATE:20210218
DTSTAMP:20210226T154627
UID:23-1613606400-1613606400@https://shoalhaven.u3anet.org.au
SUMMARY:Term 1
DESCRIPTION:
LOCATION:
END:VEVENT
BEGIN:VEVENT
DTSTART;VALUE=DATE:20210219
DTEND;VALUE=DATE:20210219
DTSTAMP:20210226T154627
UID:23-1613692800-1613692800@https://shoalhaven.u3anet.org.au
SUMMARY:Term 1
DESCRIPTION:
LOCATION:
END:VEVENT
BEGIN:VEVENT
DTSTART;VALUE=DATE:20210222
DTEND;VALUE=DATE:20210222
DTSTAMP:20210226T154627
UID:23-1613952000-1613952000@https://shoalhaven.u3anet.org.au
SUMMARY:Term 1
DESCRIPTION:
LOCATION:
END:VEVENT
BEGIN:VEVENT
DTSTART;VALUE=DATE:20210223
DTEND;VALUE=DATE:20210223
DTSTAMP:20210226T154627
UID:23-1614038400-1614038400@https://shoalhaven.u3anet.org.au
SUMMARY:Term 1
DESCRIPTION:
LOCATION:
END:VEVENT
BEGIN:VEVENT
DTSTART;VALUE=DATE:20210224
DTEND;VALUE=DATE:20210224
DTSTAMP:20210226T154627
UID:23-1614124800-1614124800@https://shoalhaven.u3anet.org.au
SUMMARY:Term 1
DESCRIPTION:
LOCATION:
END:VEVENT
BEGIN:VEVENT
DTSTART;VALUE=DATE:20210225
DTEND;VALUE=DATE:20210225
DTSTAMP:20210226T154627
UID:23-1614211200-1614211200@https://shoalhaven.u3anet.org.au
SUMMARY:Term 1
DESCRIPTION:
LOCATION:
END:VEVENT
BEGIN:VEVENT
DTSTART;VALUE=DATE:20210226
DTEND;VALUE=DATE:20210226
DTSTAMP:20210226T154627
UID:23-1614297600-1614297600@https://shoalhaven.u3anet.org.au
SUMMARY:Term 1
DESCRIPTION:
LOCATION:
END:VEVENT
END:VCALENDAR