BEGIN:VCALENDAR
VERSION:2.0
PRODID:-//U3A Shoalhaven - ECPv1.0//NONSGML v1.0//EN
CALSCALE:GREGORIAN
METHOD:PUBLISH
X-WR-CALNAME:U3A Shoalhaven
X-ORIGINAL-URL:https://shoalhaven.u3anet.org.au
X-WR-CALDESC:Events for U3A Shoalhaven
BEGIN:VEVENT
DTSTART;VALUE=DATE:20210401
DTEND;VALUE=DATE:20210401
DTSTAMP:20210226T154852
UID:24-1617235200-1617235200@https://shoalhaven.u3anet.org.au
SUMMARY:Term 1
DESCRIPTION:
LOCATION:
END:VEVENT
BEGIN:VEVENT
DTSTART;VALUE=DATE:20210401
DTEND;VALUE=DATE:20210401
DTSTAMP:20210226T154852
UID:29-1617235200-1617235200@https://shoalhaven.u3anet.org.au
SUMMARY:Term 1 - End
DESCRIPTION:
LOCATION:
END:VEVENT
END:VCALENDAR