BEGIN:VCALENDAR
VERSION:2.0
PRODID:-//U3A Shoalhaven - ECPv1.0//NONSGML v1.0//EN
CALSCALE:GREGORIAN
METHOD:PUBLISH
X-WR-CALNAME:U3A Shoalhaven
X-ORIGINAL-URL:https://shoalhaven.u3anet.org.au
X-WR-CALDESC:Events for U3A Shoalhaven
BEGIN:VEVENT
DTSTART;VALUE=DATE:20200601
DTEND;VALUE=DATE:20200601
DTSTAMP:20210226T172035
UID:6-1590969600-1590969600@https://shoalhaven.u3anet.org.au
SUMMARY:Term 2
DESCRIPTION:
LOCATION:
END:VEVENT
BEGIN:VEVENT
DTSTART;VALUE=DATE:20200602
DTEND;VALUE=DATE:20200602
DTSTAMP:20210226T172035
UID:6-1591056000-1591056000@https://shoalhaven.u3anet.org.au
SUMMARY:Term 2
DESCRIPTION:
LOCATION:
END:VEVENT
BEGIN:VEVENT
DTSTART;VALUE=DATE:20200603
DTEND;VALUE=DATE:20200603
DTSTAMP:20210226T172035
UID:6-1591142400-1591142400@https://shoalhaven.u3anet.org.au
SUMMARY:Term 2
DESCRIPTION:
LOCATION:
END:VEVENT
BEGIN:VEVENT
DTSTART;VALUE=DATE:20200604
DTEND;VALUE=DATE:20200604
DTSTAMP:20210226T172035
UID:6-1591228800-1591228800@https://shoalhaven.u3anet.org.au
SUMMARY:Term 2
DESCRIPTION:
LOCATION:
END:VEVENT
BEGIN:VEVENT
DTSTART;VALUE=DATE:20200605
DTEND;VALUE=DATE:20200605
DTSTAMP:20210226T172035
UID:6-1591315200-1591315200@https://shoalhaven.u3anet.org.au
SUMMARY:Term 2
DESCRIPTION:
LOCATION:
END:VEVENT
BEGIN:VEVENT
DTSTART;VALUE=DATE:20200608
DTEND;VALUE=DATE:20200608
DTSTAMP:20210226T172035
UID:6-1591574400-1591574400@https://shoalhaven.u3anet.org.au
SUMMARY:Term 2
DESCRIPTION:
LOCATION:
END:VEVENT
BEGIN:VEVENT
DTSTART;VALUE=DATE:20200609
DTEND;VALUE=DATE:20200609
DTSTAMP:20210226T172035
UID:6-1591660800-1591660800@https://shoalhaven.u3anet.org.au
SUMMARY:Term 2
DESCRIPTION:
LOCATION:
END:VEVENT
BEGIN:VEVENT
DTSTART;VALUE=DATE:20200610
DTEND;VALUE=DATE:20200610
DTSTAMP:20210226T172035
UID:6-1591747200-1591747200@https://shoalhaven.u3anet.org.au
SUMMARY:Term 2
DESCRIPTION:
LOCATION:
END:VEVENT
BEGIN:VEVENT
DTSTART;VALUE=DATE:20200611
DTEND;VALUE=DATE:20200611
DTSTAMP:20210226T172035
UID:6-1591833600-1591833600@https://shoalhaven.u3anet.org.au
SUMMARY:Term 2
DESCRIPTION:
LOCATION:
END:VEVENT
BEGIN:VEVENT
DTSTART;VALUE=DATE:20200612
DTEND;VALUE=DATE:20200612
DTSTAMP:20210226T172035
UID:6-1591920000-1591920000@https://shoalhaven.u3anet.org.au
SUMMARY:Term 2
DESCRIPTION:
LOCATION:
END:VEVENT
BEGIN:VEVENT
DTSTART;VALUE=DATE:20200615
DTEND;VALUE=DATE:20200615
DTSTAMP:20210226T172035
UID:6-1592179200-1592179200@https://shoalhaven.u3anet.org.au
SUMMARY:Term 2
DESCRIPTION:
LOCATION:
END:VEVENT
BEGIN:VEVENT
DTSTART;VALUE=DATE:20200616
DTEND;VALUE=DATE:20200616
DTSTAMP:20210226T172035
UID:6-1592265600-1592265600@https://shoalhaven.u3anet.org.au
SUMMARY:Term 2
DESCRIPTION:
LOCATION:
END:VEVENT
BEGIN:VEVENT
DTSTART;VALUE=DATE:20200617
DTEND;VALUE=DATE:20200617
DTSTAMP:20210226T172035
UID:6-1592352000-1592352000@https://shoalhaven.u3anet.org.au
SUMMARY:Term 2
DESCRIPTION:
LOCATION:
END:VEVENT
BEGIN:VEVENT
DTSTART;VALUE=DATE:20200618
DTEND;VALUE=DATE:20200618
DTSTAMP:20210226T172035
UID:6-1592438400-1592438400@https://shoalhaven.u3anet.org.au
SUMMARY:Term 2
DESCRIPTION:
LOCATION:
END:VEVENT
BEGIN:VEVENT
DTSTART;VALUE=DATE:20200619
DTEND;VALUE=DATE:20200619
DTSTAMP:20210226T172035
UID:6-1592524800-1592524800@https://shoalhaven.u3anet.org.au
SUMMARY:Term 2
DESCRIPTION:
LOCATION:
END:VEVENT
BEGIN:VEVENT
DTSTART;VALUE=DATE:20200622
DTEND;VALUE=DATE:20200622
DTSTAMP:20210226T172035
UID:6-1592784000-1592784000@https://shoalhaven.u3anet.org.au
SUMMARY:Term 2
DESCRIPTION:
LOCATION:
END:VEVENT
BEGIN:VEVENT
DTSTART;VALUE=DATE:20200623
DTEND;VALUE=DATE:20200623
DTSTAMP:20210226T172035
UID:6-1592870400-1592870400@https://shoalhaven.u3anet.org.au
SUMMARY:Term 2
DESCRIPTION:
LOCATION:
END:VEVENT
BEGIN:VEVENT
DTSTART;VALUE=DATE:20200624
DTEND;VALUE=DATE:20200624
DTSTAMP:20210226T172035
UID:6-1592956800-1592956800@https://shoalhaven.u3anet.org.au
SUMMARY:Term 2
DESCRIPTION:
LOCATION:
END:VEVENT
BEGIN:VEVENT
DTSTART;VALUE=DATE:20200625
DTEND;VALUE=DATE:20200625
DTSTAMP:20210226T172035
UID:6-1593043200-1593043200@https://shoalhaven.u3anet.org.au
SUMMARY:Term 2
DESCRIPTION:
LOCATION:
END:VEVENT
BEGIN:VEVENT
DTSTART;VALUE=DATE:20200626
DTEND;VALUE=DATE:20200626
DTSTAMP:20210226T172035
UID:6-1593129600-1593129600@https://shoalhaven.u3anet.org.au
SUMMARY:Term 2
DESCRIPTION:
LOCATION:
END:VEVENT
BEGIN:VEVENT
DTSTART;VALUE=DATE:20200626
DTEND;VALUE=DATE:20200626
DTSTAMP:20210226T172035
UID:15-1593129600-1593129600@https://shoalhaven.u3anet.org.au
SUMMARY:Term 2 - End
DESCRIPTION:
LOCATION:
END:VEVENT
END:VCALENDAR