BEGIN:VCALENDAR
VERSION:2.0
PRODID:-//U3A Shoalhaven - ECPv1.0//NONSGML v1.0//EN
CALSCALE:GREGORIAN
METHOD:PUBLISH
X-WR-CALNAME:U3A Shoalhaven
X-ORIGINAL-URL:https://shoalhaven.u3anet.org.au
X-WR-CALDESC:Events for U3A Shoalhaven
BEGIN:VEVENT
DTSTART;VALUE=DATE:20200422
DTEND;VALUE=DATE:20200422
DTSTAMP:20210228T133743
UID:20-1587513600-1587513600@https://shoalhaven.u3anet.org.au
SUMMARY:Term 2 On-line Enrolment Starts
DESCRIPTION:
LOCATION:
END:VEVENT
END:VCALENDAR